BEGIN:VCALENDAR
CALSCALE:GREGORIAN
X-WR-TIMEZONE;VALUE=TEXT:GMT
PRODID:PEAK Corporation - piCal -
X-WR-CALNAME;VALUE=TEXT:海人祭・沼津水産祭
VERSION:2.0
METHOD:PUBLISH
BEGIN:VTIMEZONE
TZID:GMT
BEGIN:STANDARD
DTSTART:19390101T000000
TZOFFSETFROM:+0000
TZOFFSETTO:+0000
TZNAME:GMT
END:STANDARD
END:VTIMEZONE
BEGIN:VEVENT
DTSTART:20090523T000000Z
DTEND:20090523T080000Z
LOCATION:沼津魚市場第一市場 ＩＮＯ 沼津港内港スペース他
TRANSP:OPAQUE
SEQUENCE:1
UID:pical060-dd94dff11a2d9ed385b59a0a536d01f9
DTSTAMP:20090512T050416Z
CATEGORIES:沼津市
DESCRIPTION:
SUMMARY:海人祭・沼津水産祭
PRIORITY:0
CLASS:PUBLIC
END:VEVENT
END:VCALENDAR
