BEGIN:VCALENDAR
CALSCALE:GREGORIAN
X-WR-TIMEZONE;VALUE=TEXT:GMT
PRODID:PEAK Corporation - piCal -
X-WR-CALNAME;VALUE=TEXT:楊原神社・大朝神社の 厳冬海中みそぎ祭り
VERSION:2.0
METHOD:PUBLISH
BEGIN:VTIMEZONE
TZID:GMT
BEGIN:STANDARD
DTSTART:19390101T000000
TZOFFSETFROM:+0000
TZOFFSETTO:+0000
TZNAME:GMT
END:STANDARD
END:VTIMEZONE
BEGIN:VEVENT
DTSTART:20090112T000000Z
DTEND:20090112T080000Z
LOCATION:我入道海岸
TRANSP:OPAQUE
SEQUENCE:1
UID:pical060-4281e8e2cbee4ee587f94bad6e09d20b
DTSTAMP:20090106T234614Z
CATEGORIES:沼津市
DESCRIPTION:
SUMMARY:楊原神社・大朝神社の 厳冬海中みそぎ祭り
PRIORITY:0
CLASS:PUBLIC
END:VEVENT
END:VCALENDAR
