BEGIN:VCALENDAR
CALSCALE:GREGORIAN
X-WR-TIMEZONE;VALUE=TEXT:GMT
PRODID:PEAK Corporation - piCal -
X-WR-CALNAME;VALUE=TEXT:戸田灯ろう流し
VERSION:2.0
METHOD:PUBLISH
BEGIN:VTIMEZONE
TZID:Etc/GMT-9
BEGIN:STANDARD
DTSTART:19390101T000000
TZOFFSETFROM:+0900
TZOFFSETTO:+0900
TZNAME:Etc/GMT-9
END:STANDARD
END:VTIMEZONE
BEGIN:VEVENT
DTSTART;TZID=Etc/GMT-9:20070816T170000
DTEND;TZID=Etc/GMT-9:20070816T210000
LOCATION:おたね川
TRANSP:OPAQUE
SEQUENCE:1
UID:pical060-54c60704555f662f34d04b4ededc5d55
DTSTAMP:20090106T234720Z
CATEGORIES:沼津市
DESCRIPTION:
SUMMARY:戸田灯ろう流し
RRULE:FREQ=YEARLY;INTERVAL=1;BYMONTH=8;WKST=SU
PRIORITY:0
CLASS:PUBLIC
END:VEVENT
END:VCALENDAR
