BEGIN:VCALENDAR
CALSCALE:GREGORIAN
X-WR-TIMEZONE;VALUE=TEXT:GMT
PRODID:PEAK Corporation - piCal -
X-WR-CALNAME;VALUE=TEXT:戸田盆踊り・海上花火大会
VERSION:2.0
METHOD:PUBLISH
BEGIN:VTIMEZONE
TZID:Etc/GMT-9
BEGIN:STANDARD
DTSTART:19390101T000000
TZOFFSETFROM:+0900
TZOFFSETTO:+0900
TZNAME:Etc/GMT-9
END:STANDARD
END:VTIMEZONE
BEGIN:VEVENT
DTSTART;TZID=Etc/GMT-9:20070815T090000
DTEND;TZID=Etc/GMT-9:20070815T170000
LOCATION:戸田中央桟橋・戸田港
TRANSP:OPAQUE
SEQUENCE:1
UID:pical060-5819c2342fc1621d89432f3aaaab5dbe
DTSTAMP:20090106T234742Z
CATEGORIES:沼津市
DESCRIPTION:
SUMMARY:戸田盆踊り・海上花火大会
RRULE:FREQ=YEARLY;INTERVAL=1;BYMONTH=8;WKST=SU
PRIORITY:0
CLASS:PUBLIC
END:VEVENT
END:VCALENDAR
