BEGIN:VCALENDAR
CALSCALE:GREGORIAN
X-WR-TIMEZONE;VALUE=TEXT:GMT
PRODID:PEAK Corporation - piCal -
X-WR-CALNAME;VALUE=TEXT:沼津夏まつり・狩野川花火大会
VERSION:2.0
METHOD:PUBLISH
BEGIN:VTIMEZONE
TZID:GMT
BEGIN:STANDARD
DTSTART:19390101T000000
TZOFFSETFROM:+0000
TZOFFSETTO:+0000
TZNAME:GMT
END:STANDARD
END:VTIMEZONE
BEGIN:VEVENT
DTSTART;VALUE=DATE:20070728
DTEND;VALUE=DATE:20070730
LOCATION:狩野川河川敷・中心市街地
TRANSP:OPAQUE
SEQUENCE:1
UID:pical060-4913023e274255cf9b92be8fbb65774a
DTSTAMP:20090106T234802Z
CATEGORIES:沼津市
DESCRIPTION:
SUMMARY:沼津夏まつり・狩野川花火大会
RRULE:FREQ=YEARLY;INTERVAL=1;BYDAY=4SA;BYMONTH=7;WKST=SU
PRIORITY:0
CLASS:PUBLIC
END:VEVENT
END:VCALENDAR
